BEGIN:VCALENDAR
VERSION:2.0
PRODID:-//Fetcham U3A - ECPv6.15.20//NONSGML v1.0//EN
CALSCALE:GREGORIAN
METHOD:PUBLISH
X-ORIGINAL-URL:https://fetchamu3a.org.uk
X-WR-CALDESC:Events for Fetcham U3A
REFRESH-INTERVAL;VALUE=DURATION:PT1H
X-Robots-Tag:noindex
X-PUBLISHED-TTL:PT1H
BEGIN:VTIMEZONE
TZID:UTC
BEGIN:STANDARD
TZOFFSETFROM:+0000
TZOFFSETTO:+0000
TZNAME:UTC
DTSTART:20180101T000000
END:STANDARD
END:VTIMEZONE
BEGIN:VEVENT
DTSTART;TZID=UTC:20190701T000000
DTEND;TZID=UTC:20190701T235959
DTSTAMP:20260422T041202
CREATED:20210318T170738Z
LAST-MODIFIED:20210327T190152Z
UID:949-1561939200-1562025599@fetchamu3a.org.uk
SUMMARY:Summer Picnic
DESCRIPTION:Our Summer Event was the very successful Summer Picnic on the July 1 at the Bookham Scout Centre. Wow\, what a hot day! \n\n\n\nA marquee was supplied with open sides to enable us to keep out of the sun\, others sheltered under the large oak trees. \n\n\n\nThe food was served in the very cool area of the hall. Tables were decorated with lovely blue/white cloths. Plates and cutlery were supplied\, so all we had to do was help ourselves to all the goodies\, sit with our friends at a table and listen to the fabulous\, Anchor Pub Ukulele band\, which included one of our members. I will leave it to you all to spot which one. \n\n\n\nThe band was great and funny and we could sing along with all the tunes that we knew. What a wonderful afternoon. Thanks to the organisers.
URL:https://fetchamu3a.org.uk/our-programme/summer-picnic-2/
CATEGORIES:Outings and Holidays
END:VEVENT
BEGIN:VEVENT
DTSTART;TZID=UTC:20190621T000000
DTEND;TZID=UTC:20190621T235959
DTSTAMP:20260422T041202
CREATED:20210318T163353Z
LAST-MODIFIED:20210327T190429Z
UID:924-1561075200-1561161599@fetchamu3a.org.uk
SUMMARY:Theatre Trip
DESCRIPTION:On June 21 members had the privilege to watch Matthew Bourne’s ballet Cinderella by Prokofiev at the Woking theatre. Matthew Bourne’s interpretation of the classic fairy tale has\, at its heart\, a true war-time romance. A chance meeting results in a magical night for Cinderella and her dashing young RAF pilot\, together just long enough to fall in love before being parted by the horrors of the Blitz. \n\n\n\nBeautiful music and marvellous ballet enjoyed by all. Some of our more senior members have now decided to take up ballet lessons!!!!
URL:https://fetchamu3a.org.uk/our-programme/past-itme/
CATEGORIES:Outings and Holidays
END:VEVENT
END:VCALENDAR